BEGIN:VCALENDAR
VERSION:2.0
PRODID:-//Advanced Allergy Therapeutics - ECPv6.15.20//NONSGML v1.0//EN
CALSCALE:GREGORIAN
METHOD:PUBLISH
X-ORIGINAL-URL:https://advancedallergytherapeutics.com
X-WR-CALDESC:Events for Advanced Allergy Therapeutics
REFRESH-INTERVAL;VALUE=DURATION:PT1H
X-Robots-Tag:noindex
X-PUBLISHED-TTL:PT1H
BEGIN:VTIMEZONE
TZID:America/Los_Angeles
BEGIN:DAYLIGHT
TZOFFSETFROM:-0800
TZOFFSETTO:-0700
TZNAME:PDT
DTSTART:20240310T100000
END:DAYLIGHT
BEGIN:STANDARD
TZOFFSETFROM:-0700
TZOFFSETTO:-0800
TZNAME:PST
DTSTART:20241103T090000
END:STANDARD
BEGIN:DAYLIGHT
TZOFFSETFROM:-0800
TZOFFSETTO:-0700
TZNAME:PDT
DTSTART:20250309T100000
END:DAYLIGHT
BEGIN:STANDARD
TZOFFSETFROM:-0700
TZOFFSETTO:-0800
TZNAME:PST
DTSTART:20251102T090000
END:STANDARD
BEGIN:DAYLIGHT
TZOFFSETFROM:-0800
TZOFFSETTO:-0700
TZNAME:PDT
DTSTART:20260308T100000
END:DAYLIGHT
BEGIN:STANDARD
TZOFFSETFROM:-0700
TZOFFSETTO:-0800
TZNAME:PST
DTSTART:20261101T090000
END:STANDARD
END:VTIMEZONE
BEGIN:VEVENT
DTSTART;TZID=America/Los_Angeles:20251013T130000
DTEND;TZID=America/Los_Angeles:20251013T140000
DTSTAMP:20260424T074327
CREATED:20250304T221438Z
LAST-MODIFIED:20250306T233231Z
UID:3670-1760360400-1760364000@advancedallergytherapeutics.com
SUMMARY:Q&A Live Monthly Session: 4:00pm Eastern Time
DESCRIPTION:The Q&A Live Monthly Session takes place from 4:00 – 5:00 PM Eastern. All AAT practitioners are welcome to join! \nTo join the call\, click on the following link: https://us06web.zoom.us/j/83044278189?pwd=psFtKQhMjLblc9LU0dmQfIcPBbqxIB.1 \nIf the link doesn’t open automatically\, simply copy and paste it into your browser to access the training. \nLooking forward to seeing you there!
URL:https://advancedallergytherapeutics.com/event/qa-live-monthly-session-400pm-eastern-time-13/
ORGANIZER;CN="DeBritt Ealey":MAILTO:debritt@advancedallergytherapeutics.com
END:VEVENT
BEGIN:VEVENT
DTSTART;TZID=America/Los_Angeles:20251027T130000
DTEND;TZID=America/Los_Angeles:20251027T140000
DTSTAMP:20260424T074327
CREATED:20250304T221540Z
LAST-MODIFIED:20250306T233210Z
UID:3672-1761570000-1761573600@advancedallergytherapeutics.com
SUMMARY:Q&A Live Monthly Session: 4:00pm Eastern Time
DESCRIPTION:The Q&A Live Monthly Session takes place from 4:00 – 5:00 PM Eastern. All AAT practitioners are welcome to join! \nTo join the call\, click on the following link: https://us06web.zoom.us/j/83044278189?pwd=psFtKQhMjLblc9LU0dmQfIcPBbqxIB.1 \nIf the link doesn’t open automatically\, simply copy and paste it into your browser to access the training. \nLooking forward to seeing you there!
URL:https://advancedallergytherapeutics.com/event/qa-live-monthly-session-400pm-eastern-time-14/
ORGANIZER;CN="DeBritt Ealey":MAILTO:debritt@advancedallergytherapeutics.com
END:VEVENT
END:VCALENDAR